BEGIN:VCALENDAR
VERSION:2.0
PRODID:-//Cowichan South Arts Guild - ECPv6.15.20//NONSGML v1.0//EN
CALSCALE:GREGORIAN
METHOD:PUBLISH
X-ORIGINAL-URL:https://cowichansouthartsguild.com
X-WR-CALDESC:Events for Cowichan South Arts Guild
REFRESH-INTERVAL;VALUE=DURATION:PT1H
X-Robots-Tag:noindex
X-PUBLISHED-TTL:PT1H
BEGIN:VTIMEZONE
TZID:America/Vancouver
BEGIN:DAYLIGHT
TZOFFSETFROM:-0800
TZOFFSETTO:-0700
TZNAME:PDT
DTSTART:20250309T100000
END:DAYLIGHT
BEGIN:STANDARD
TZOFFSETFROM:-0700
TZOFFSETTO:-0800
TZNAME:PST
DTSTART:20251102T090000
END:STANDARD
BEGIN:DAYLIGHT
TZOFFSETFROM:-0800
TZOFFSETTO:-0700
TZNAME:PDT
DTSTART:20260308T100000
END:DAYLIGHT
BEGIN:STANDARD
TZOFFSETFROM:-0700
TZOFFSETTO:-0800
TZNAME:PST
DTSTART:20261101T090000
END:STANDARD
BEGIN:DAYLIGHT
TZOFFSETFROM:-0800
TZOFFSETTO:-0700
TZNAME:PDT
DTSTART:20270314T100000
END:DAYLIGHT
BEGIN:STANDARD
TZOFFSETFROM:-0700
TZOFFSETTO:-0800
TZNAME:PST
DTSTART:20271107T090000
END:STANDARD
END:VTIMEZONE
BEGIN:VEVENT
DTSTART;TZID=America/Vancouver:20260425T100000
DTEND;TZID=America/Vancouver:20260425T140000
DTSTAMP:20260423T093359
CREATED:20260329T142905Z
LAST-MODIFIED:20260403T214706Z
UID:5692-1777111200-1777125600@cowichansouthartsguild.com
SUMMARY:Annual Community Clean Up
DESCRIPTION:“It takes a Village ……To protect its Beauty” is our Event’s new motto. And it’s true. It takes each of us to make the effort\, whether small or grand\, to keep our Shawnigan Lake a beautiful destination and beautiful place to live and play. Let’s all take a bit of time during Earth Week to make Shawnigan shine. Join the Community Clean up on April 25\, or Adopt a favourite place year-round and let us know at ShawniganCleanUpEvent@gmail.com. We are building a network and we’d like to put you on the map. On April 25 we will be joined by Whimsy Caravan from Cowichan South Arts Guild with a youth-oriented art project\, Shawnigan Basin Society\, and Quw’utsun Cultural Connections with their western red cedar restoration project – so please check us out and bring the family.
URL:https://cowichansouthartsguild.com/event/annual-community-clean-up/
LOCATION:Dougan Park
CATEGORIES:Community Cleanup
ATTACH;FMTTYPE=image/jpeg:https://cowichansouthartsguild.com/wp-content/uploads/2026/03/Shawnigan-Clean-up_Poster_V3.jpg
END:VEVENT
END:VCALENDAR