BEGIN:VCALENDAR
VERSION:2.0
PRODID:-//Cowichan South Arts Guild - ECPv6.15.20//NONSGML v1.0//EN
CALSCALE:GREGORIAN
METHOD:PUBLISH
X-ORIGINAL-URL:https://cowichansouthartsguild.com
X-WR-CALDESC:Events for Cowichan South Arts Guild
REFRESH-INTERVAL;VALUE=DURATION:PT1H
X-Robots-Tag:noindex
X-PUBLISHED-TTL:PT1H
BEGIN:VTIMEZONE
TZID:America/Vancouver
BEGIN:DAYLIGHT
TZOFFSETFROM:-0800
TZOFFSETTO:-0700
TZNAME:PDT
DTSTART:20250309T100000
END:DAYLIGHT
BEGIN:STANDARD
TZOFFSETFROM:-0700
TZOFFSETTO:-0800
TZNAME:PST
DTSTART:20251102T090000
END:STANDARD
BEGIN:DAYLIGHT
TZOFFSETFROM:-0800
TZOFFSETTO:-0700
TZNAME:PDT
DTSTART:20260308T100000
END:DAYLIGHT
BEGIN:STANDARD
TZOFFSETFROM:-0700
TZOFFSETTO:-0800
TZNAME:PST
DTSTART:20261101T090000
END:STANDARD
BEGIN:DAYLIGHT
TZOFFSETFROM:-0800
TZOFFSETTO:-0700
TZNAME:PDT
DTSTART:20270314T100000
END:DAYLIGHT
BEGIN:STANDARD
TZOFFSETFROM:-0700
TZOFFSETTO:-0800
TZNAME:PST
DTSTART:20271107T090000
END:STANDARD
END:VTIMEZONE
BEGIN:VEVENT
DTSTART;TZID=America/Vancouver:20260312T171500
DTEND;TZID=America/Vancouver:20260312T184500
DTSTAMP:20260423T093428
CREATED:20250507T172308Z
LAST-MODIFIED:20251008T185346Z
UID:4555-1773335700-1773341100@cowichansouthartsguild.com
SUMMARY:Inspired by Reading - Book Club
DESCRIPTION:For anyone interested in reading & inspiring conversation. No registration required\, you are welcome to attend any session! \nBook of the month: The Beekeeper’s Question by Christina Baldwin.
URL:https://cowichansouthartsguild.com/event/inspired-by-reading-book-club-11/
LOCATION:South Cowichan Library\, 2720 Mill Bay Rd\, Mill Bay\, BC\, V0R 2P2
CATEGORIES:Inspired by Reading
ATTACH;FMTTYPE=image/jpeg:https://cowichansouthartsguild.com/wp-content/uploads/2025/08/2025-book6.jpg
ORGANIZER;CN="Cowichan South Arts Guild":MAILTO:hello@cowichansouthartsguild.com
END:VEVENT
END:VCALENDAR