BEGIN:VCALENDAR
VERSION:2.0
PRODID:-//Cowichan South Arts Guild - ECPv6.15.20//NONSGML v1.0//EN
CALSCALE:GREGORIAN
METHOD:PUBLISH
X-ORIGINAL-URL:https://cowichansouthartsguild.com
X-WR-CALDESC:Events for Cowichan South Arts Guild
REFRESH-INTERVAL;VALUE=DURATION:PT1H
X-Robots-Tag:noindex
X-PUBLISHED-TTL:PT1H
BEGIN:VTIMEZONE
TZID:America/Vancouver
BEGIN:DAYLIGHT
TZOFFSETFROM:-0800
TZOFFSETTO:-0700
TZNAME:PDT
DTSTART:20230312T100000
END:DAYLIGHT
BEGIN:STANDARD
TZOFFSETFROM:-0700
TZOFFSETTO:-0800
TZNAME:PST
DTSTART:20231105T090000
END:STANDARD
BEGIN:DAYLIGHT
TZOFFSETFROM:-0800
TZOFFSETTO:-0700
TZNAME:PDT
DTSTART:20240310T100000
END:DAYLIGHT
BEGIN:STANDARD
TZOFFSETFROM:-0700
TZOFFSETTO:-0800
TZNAME:PST
DTSTART:20241103T090000
END:STANDARD
BEGIN:DAYLIGHT
TZOFFSETFROM:-0800
TZOFFSETTO:-0700
TZNAME:PDT
DTSTART:20250309T100000
END:DAYLIGHT
BEGIN:STANDARD
TZOFFSETFROM:-0700
TZOFFSETTO:-0800
TZNAME:PST
DTSTART:20251102T090000
END:STANDARD
BEGIN:DAYLIGHT
TZOFFSETFROM:-0800
TZOFFSETTO:-0700
TZNAME:PDT
DTSTART:20260308T100000
END:DAYLIGHT
BEGIN:STANDARD
TZOFFSETFROM:-0700
TZOFFSETTO:-0800
TZNAME:PST
DTSTART:20261101T090000
END:STANDARD
BEGIN:DAYLIGHT
TZOFFSETFROM:-0800
TZOFFSETTO:-0700
TZNAME:PDT
DTSTART:20270314T100000
END:DAYLIGHT
BEGIN:STANDARD
TZOFFSETFROM:-0700
TZOFFSETTO:-0800
TZNAME:PST
DTSTART:20271107T090000
END:STANDARD
END:VTIMEZONE
BEGIN:VEVENT
DTSTART;TZID=America/Vancouver:20260312T171500
DTEND;TZID=America/Vancouver:20260312T184500
DTSTAMP:20260423T081705
CREATED:20250507T172308Z
LAST-MODIFIED:20251008T185346Z
UID:4555-1773335700-1773341100@cowichansouthartsguild.com
SUMMARY:Inspired by Reading - Book Club
DESCRIPTION:For anyone interested in reading & inspiring conversation. No registration required\, you are welcome to attend any session! \nBook of the month: The Beekeeper’s Question by Christina Baldwin.
URL:https://cowichansouthartsguild.com/event/inspired-by-reading-book-club-11/
LOCATION:South Cowichan Library\, 2720 Mill Bay Rd\, Mill Bay\, BC\, V0R 2P2
CATEGORIES:Inspired by Reading
ATTACH;FMTTYPE=image/jpeg:https://cowichansouthartsguild.com/wp-content/uploads/2025/08/2025-book6.jpg
ORGANIZER;CN="Cowichan South Arts Guild":MAILTO:hello@cowichansouthartsguild.com
END:VEVENT
BEGIN:VEVENT
DTSTART;TZID=America/Vancouver:20260212T171500
DTEND;TZID=America/Vancouver:20260212T184500
DTSTAMP:20260423T081705
CREATED:20250507T172244Z
LAST-MODIFIED:20251008T185337Z
UID:4552-1770916500-1770921900@cowichansouthartsguild.com
SUMMARY:Inspired by Reading - Book Club
DESCRIPTION:For anyone interested in reading & inspiring conversation. No registration required\, you are welcome to attend any session! \nBook of the month: The Woefield Poultry Collective by Susan Juby.
URL:https://cowichansouthartsguild.com/event/inspired-by-reading-book-club-10/
LOCATION:South Cowichan Library\, 2720 Mill Bay Rd\, Mill Bay\, BC\, V0R 2P2
CATEGORIES:Inspired by Reading
ATTACH;FMTTYPE=image/jpeg:https://cowichansouthartsguild.com/wp-content/uploads/2025/08/2025-book5.jpg
ORGANIZER;CN="Cowichan South Arts Guild":MAILTO:hello@cowichansouthartsguild.com
END:VEVENT
BEGIN:VEVENT
DTSTART;TZID=America/Vancouver:20260108T171500
DTEND;TZID=America/Vancouver:20260108T184500
DTSTAMP:20260423T081705
CREATED:20250507T172232Z
LAST-MODIFIED:20251008T185330Z
UID:4551-1767892500-1767897900@cowichansouthartsguild.com
SUMMARY:Inspired by Reading - Book Club
DESCRIPTION:For anyone interested in reading & inspiring conversation. No registration required\, you are welcome to attend any session! \nBook of the month: At a Loss for Words: Conversation in an Age of Rage by Carol Off.
URL:https://cowichansouthartsguild.com/event/inspired-by-reading-book-club-9/
LOCATION:South Cowichan Library\, 2720 Mill Bay Rd\, Mill Bay\, BC\, V0R 2P2
CATEGORIES:Inspired by Reading
ATTACH;FMTTYPE=image/jpeg:https://cowichansouthartsguild.com/wp-content/uploads/2025/08/2025-book4.jpg
ORGANIZER;CN="Cowichan South Arts Guild":MAILTO:hello@cowichansouthartsguild.com
END:VEVENT
BEGIN:VEVENT
DTSTART;TZID=America/Vancouver:20251211T171500
DTEND;TZID=America/Vancouver:20251211T184500
DTSTAMP:20260423T081705
CREATED:20250507T172204Z
LAST-MODIFIED:20251008T185324Z
UID:4549-1765473300-1765478700@cowichansouthartsguild.com
SUMMARY:Inspired by Reading - Book Club
DESCRIPTION:For anyone interested in reading & inspiring conversation. No registration required\, you are welcome to attend any session! \nBook of the month: Cutting for Stone by Abraham Verghese.
URL:https://cowichansouthartsguild.com/event/inspired-by-reading-book-club-8/
LOCATION:South Cowichan Library\, 2720 Mill Bay Rd\, Mill Bay\, BC\, V0R 2P2
CATEGORIES:Inspired by Reading
ATTACH;FMTTYPE=image/jpeg:https://cowichansouthartsguild.com/wp-content/uploads/2025/08/2025-book3.jpg
ORGANIZER;CN="Cowichan South Arts Guild":MAILTO:hello@cowichansouthartsguild.com
END:VEVENT
BEGIN:VEVENT
DTSTART;TZID=America/Vancouver:20251113T171500
DTEND;TZID=America/Vancouver:20251113T184500
DTSTAMP:20260423T081705
CREATED:20250507T172133Z
LAST-MODIFIED:20251008T185318Z
UID:4546-1763054100-1763059500@cowichansouthartsguild.com
SUMMARY:Inspired by Reading - Book Club
DESCRIPTION:For anyone interested in reading & inspiring conversation. No registration required\, you are welcome to attend any session! \nBook of the month: The Tiger: A True Story of Vengeance and Survival by John Vaillant.
URL:https://cowichansouthartsguild.com/event/inspired-by-reading-book-club-7/
LOCATION:South Cowichan Library\, 2720 Mill Bay Rd\, Mill Bay\, BC\, V0R 2P2
CATEGORIES:Inspired by Reading
ATTACH;FMTTYPE=image/jpeg:https://cowichansouthartsguild.com/wp-content/uploads/2025/08/2025-book2.jpg
ORGANIZER;CN="Cowichan South Arts Guild":MAILTO:hello@cowichansouthartsguild.com
END:VEVENT
BEGIN:VEVENT
DTSTART;TZID=America/Vancouver:20251009T171500
DTEND;TZID=America/Vancouver:20251009T184500
DTSTAMP:20260423T081705
CREATED:20250507T172325Z
LAST-MODIFIED:20251008T185311Z
UID:4557-1760030100-1760035500@cowichansouthartsguild.com
SUMMARY:Inspired by Reading - Book Club
DESCRIPTION:For anyone interested in reading & inspiring conversation. No registration required\, you are welcome to attend any session! \nBook of the month: The Night Watchman by Louise Erdrich.
URL:https://cowichansouthartsguild.com/event/inspired-by-reading-book-club-12/
LOCATION:South Cowichan Library\, 2720 Mill Bay Rd\, Mill Bay\, BC\, V0R 2P2
CATEGORIES:Inspired by Reading
ATTACH;FMTTYPE=image/jpeg:https://cowichansouthartsguild.com/wp-content/uploads/2025/08/2025-book1.jpg
ORGANIZER;CN="Cowichan South Arts Guild":MAILTO:hello@cowichansouthartsguild.com
END:VEVENT
BEGIN:VEVENT
DTSTART;TZID=America/Vancouver:20250401T183000
DTEND;TZID=America/Vancouver:20250401T200000
DTSTAMP:20260423T081705
CREATED:20240920T223036Z
LAST-MODIFIED:20250315T224010Z
UID:3449-1743532200-1743537600@cowichansouthartsguild.com
SUMMARY:Inspired by Reading - Book Club
DESCRIPTION:Book of the month: Crying in H Mart by Michelle Zauner
URL:https://cowichansouthartsguild.com/event/inspired-by-reading-12/
LOCATION:South Cowichan Library\, 2720 Mill Bay Rd\, Mill Bay\, BC\, V0R 2P2
CATEGORIES:Inspired by Reading
ATTACH;FMTTYPE=image/jpeg:https://cowichansouthartsguild.com/wp-content/uploads/2024/09/book6.jpg
ORGANIZER;CN="Cowichan South Arts Guild":MAILTO:hello@cowichansouthartsguild.com
END:VEVENT
BEGIN:VEVENT
DTSTART;TZID=America/Vancouver:20250304T183000
DTEND;TZID=America/Vancouver:20250304T200000
DTSTAMP:20260423T081705
CREATED:20240920T222945Z
LAST-MODIFIED:20250315T224016Z
UID:3448-1741113000-1741118400@cowichansouthartsguild.com
SUMMARY:Inspired by Reading - Book Club
DESCRIPTION:Book of the month: Horse by Geraldine Brooks
URL:https://cowichansouthartsguild.com/event/inspired-by-reading-11/
LOCATION:South Cowichan Library\, 2720 Mill Bay Rd\, Mill Bay\, BC\, V0R 2P2
CATEGORIES:Inspired by Reading
ATTACH;FMTTYPE=image/jpeg:https://cowichansouthartsguild.com/wp-content/uploads/2024/09/book5.jpg
ORGANIZER;CN="Cowichan South Arts Guild":MAILTO:hello@cowichansouthartsguild.com
END:VEVENT
BEGIN:VEVENT
DTSTART;TZID=America/Vancouver:20250204T183000
DTEND;TZID=America/Vancouver:20250204T200000
DTSTAMP:20260423T081705
CREATED:20240920T210734Z
LAST-MODIFIED:20250315T224022Z
UID:3447-1738693800-1738699200@cowichansouthartsguild.com
SUMMARY:Inspired by Reading - Book Club
DESCRIPTION:Book of the month: Fire Weather: The Making of a Beast by John Vaillant
URL:https://cowichansouthartsguild.com/event/inspired-by-reading-10/
LOCATION:South Cowichan Library\, 2720 Mill Bay Rd\, Mill Bay\, BC\, V0R 2P2
CATEGORIES:Inspired by Reading
ATTACH;FMTTYPE=image/jpeg:https://cowichansouthartsguild.com/wp-content/uploads/2024/09/book4.jpg
ORGANIZER;CN="Cowichan South Arts Guild":MAILTO:hello@cowichansouthartsguild.com
END:VEVENT
BEGIN:VEVENT
DTSTART;TZID=America/Vancouver:20250107T183000
DTEND;TZID=America/Vancouver:20250107T200000
DTSTAMP:20260423T081705
CREATED:20240920T210430Z
LAST-MODIFIED:20250315T224027Z
UID:3446-1736274600-1736280000@cowichansouthartsguild.com
SUMMARY:Inspired by Reading - Book Club
DESCRIPTION:Book of the month: Covenant of Water by Abraham Verghese
URL:https://cowichansouthartsguild.com/event/inspired-by-reading-9/
LOCATION:South Cowichan Library\, 2720 Mill Bay Rd\, Mill Bay\, BC\, V0R 2P2
CATEGORIES:Inspired by Reading
ATTACH;FMTTYPE=image/jpeg:https://cowichansouthartsguild.com/wp-content/uploads/2024/09/book3.jpg
ORGANIZER;CN="Cowichan South Arts Guild":MAILTO:hello@cowichansouthartsguild.com
END:VEVENT
BEGIN:VEVENT
DTSTART;TZID=America/Vancouver:20241203T183000
DTEND;TZID=America/Vancouver:20241203T200000
DTSTAMP:20260423T081705
CREATED:20240920T210307Z
LAST-MODIFIED:20250315T224031Z
UID:3445-1733250600-1733256000@cowichansouthartsguild.com
SUMMARY:Inspired by Reading - Book Club
DESCRIPTION:Book of the month: Jennie’s Boy by Wayne Johnston
URL:https://cowichansouthartsguild.com/event/inspired-by-reading-8/
LOCATION:South Cowichan Library\, 2720 Mill Bay Rd\, Mill Bay\, BC\, V0R 2P2
CATEGORIES:Inspired by Reading
ATTACH;FMTTYPE=image/jpeg:https://cowichansouthartsguild.com/wp-content/uploads/2024/09/book2.jpg
ORGANIZER;CN="Cowichan South Arts Guild":MAILTO:hello@cowichansouthartsguild.com
END:VEVENT
BEGIN:VEVENT
DTSTART;TZID=America/Vancouver:20241105T183000
DTEND;TZID=America/Vancouver:20241105T200000
DTSTAMP:20260423T081705
CREATED:20240920T205954Z
LAST-MODIFIED:20250315T224036Z
UID:3441-1730831400-1730836800@cowichansouthartsguild.com
SUMMARY:Inspired by Reading - Book Club
DESCRIPTION:Book of the month: The Future by Catherine Leroux
URL:https://cowichansouthartsguild.com/event/inspired-by-reading-7/
LOCATION:South Cowichan Library\, 2720 Mill Bay Rd\, Mill Bay\, BC\, V0R 2P2
CATEGORIES:Inspired by Reading
ATTACH;FMTTYPE=image/jpeg:https://cowichansouthartsguild.com/wp-content/uploads/2024/09/book1.jpg
ORGANIZER;CN="Cowichan South Arts Guild":MAILTO:hello@cowichansouthartsguild.com
END:VEVENT
END:VCALENDAR