BEGIN:VCALENDAR
VERSION:2.0
PRODID:-//Cowichan South Arts Guild - ECPv6.15.20//NONSGML v1.0//EN
CALSCALE:GREGORIAN
METHOD:PUBLISH
X-ORIGINAL-URL:https://cowichansouthartsguild.com
X-WR-CALDESC:Events for Cowichan South Arts Guild
REFRESH-INTERVAL;VALUE=DURATION:PT1H
X-Robots-Tag:noindex
X-PUBLISHED-TTL:PT1H
BEGIN:VTIMEZONE
TZID:America/Vancouver
BEGIN:DAYLIGHT
TZOFFSETFROM:-0800
TZOFFSETTO:-0700
TZNAME:PDT
DTSTART:20240310T100000
END:DAYLIGHT
BEGIN:STANDARD
TZOFFSETFROM:-0700
TZOFFSETTO:-0800
TZNAME:PST
DTSTART:20241103T090000
END:STANDARD
BEGIN:DAYLIGHT
TZOFFSETFROM:-0800
TZOFFSETTO:-0700
TZNAME:PDT
DTSTART:20250309T100000
END:DAYLIGHT
BEGIN:STANDARD
TZOFFSETFROM:-0700
TZOFFSETTO:-0800
TZNAME:PST
DTSTART:20251102T090000
END:STANDARD
BEGIN:DAYLIGHT
TZOFFSETFROM:-0800
TZOFFSETTO:-0700
TZNAME:PDT
DTSTART:20260308T100000
END:DAYLIGHT
BEGIN:STANDARD
TZOFFSETFROM:-0700
TZOFFSETTO:-0800
TZNAME:PST
DTSTART:20261101T090000
END:STANDARD
END:VTIMEZONE
BEGIN:VEVENT
DTSTART;TZID=America/Vancouver:20250125T100000
DTEND;TZID=America/Vancouver:20250125T140000
DTSTAMP:20260424T082126
CREATED:20250101T233206Z
LAST-MODIFIED:20250102T054303Z
UID:3907-1737799200-1737813600@cowichansouthartsguild.com
SUMMARY:Oil Painting with Kimmer Thomas
DESCRIPTION:Cost: $28 (Non-member) or $18 with CSAG Membership \nSome materials supplied by CSAG\, list to follow on registration. \nKimmer T is a contemporary easel painter & seasoned adult educator who will introduce you to the wonderful world of oil painting. Delve into colour palette\, medium uses & effects\, and explore the versatility of the Filbert paint brush. We will be working on a small scale with a limited palette while exploring the nuances of this fine art. A class that will set you on your own path into the timeless classic of oil painting. \nTo reserve a spot\, contact hello@cowichansouthartsguild.com
URL:https://cowichansouthartsguild.com/event/oil-painting-with-kimmer-thomas/
LOCATION:Shawnigan Lake Community Centre\, - 2804 Shawnigan Lake Road
CATEGORIES:Sampler Workshops
ATTACH;FMTTYPE=image/png:https://cowichansouthartsguild.com/wp-content/uploads/2025/01/Oil-Kimmer-T-1.png
ORGANIZER;CN="Cowichan South Arts Guild":MAILTO:hello@cowichansouthartsguild.com
END:VEVENT
END:VCALENDAR