BEGIN:VCALENDAR
VERSION:2.0
PRODID:-//Cowichan South Arts Guild - ECPv6.15.20//NONSGML v1.0//EN
CALSCALE:GREGORIAN
METHOD:PUBLISH
X-ORIGINAL-URL:https://cowichansouthartsguild.com
X-WR-CALDESC:Events for Cowichan South Arts Guild
REFRESH-INTERVAL;VALUE=DURATION:PT1H
X-Robots-Tag:noindex
X-PUBLISHED-TTL:PT1H
BEGIN:VTIMEZONE
TZID:America/Vancouver
BEGIN:DAYLIGHT
TZOFFSETFROM:-0800
TZOFFSETTO:-0700
TZNAME:PDT
DTSTART:20240310T100000
END:DAYLIGHT
BEGIN:STANDARD
TZOFFSETFROM:-0700
TZOFFSETTO:-0800
TZNAME:PST
DTSTART:20241103T090000
END:STANDARD
BEGIN:DAYLIGHT
TZOFFSETFROM:-0800
TZOFFSETTO:-0700
TZNAME:PDT
DTSTART:20250309T100000
END:DAYLIGHT
BEGIN:STANDARD
TZOFFSETFROM:-0700
TZOFFSETTO:-0800
TZNAME:PST
DTSTART:20251102T090000
END:STANDARD
BEGIN:DAYLIGHT
TZOFFSETFROM:-0800
TZOFFSETTO:-0700
TZNAME:PDT
DTSTART:20260308T100000
END:DAYLIGHT
BEGIN:STANDARD
TZOFFSETFROM:-0700
TZOFFSETTO:-0800
TZNAME:PST
DTSTART:20261101T090000
END:STANDARD
END:VTIMEZONE
BEGIN:VEVENT
DTSTART;TZID=America/Vancouver:20251122T100000
DTEND;TZID=America/Vancouver:20251122T140000
DTSTAMP:20260423T162949
CREATED:20250517T001745Z
LAST-MODIFIED:20250928T150631Z
UID:4602-1763805600-1763820000@cowichansouthartsguild.com
SUMMARY:Holiday Wreath Making with Ingrid Mertens
DESCRIPTION:Learn how to make a natural Holiday Wreath\, on a willow hoop\, using freshly foraged greens and decorative materials. \nSome supplies provided\, participants are also welcome to bring/share materials! \nIngrid has 10 years of experience teaching and making wreaths with harvested materials from the wild as well as leading multiple workshops teaching basket weaving with natural fibres. She is also a regular food and medicinal forager. \n$18 for CSAG Members\n$28 for Non-Members\n$15 for an Annual Membership \nTo reserve a spot email: hello@cowichansouthartsguild.com \nInstagram: @bushcraftingsoccermom\nFacebook: Workshops With Ingrid
URL:https://cowichansouthartsguild.com/event/holiday-wreath-making-with-ingrid-mertens/
LOCATION:Shawnigan Lake Community Centre\, - 2804 Shawnigan Lake Road
CATEGORIES:Sampler Workshops
ATTACH;FMTTYPE=image/jpeg:https://cowichansouthartsguild.com/wp-content/uploads/2025/09/CSAG_November2025Sampler_V2.jpg
ORGANIZER;CN="Cowichan South Arts Guild":MAILTO:hello@cowichansouthartsguild.com
END:VEVENT
END:VCALENDAR