BEGIN:VCALENDAR
VERSION:2.0
PRODID:-//Cowichan South Arts Guild - ECPv6.15.20//NONSGML v1.0//EN
CALSCALE:GREGORIAN
METHOD:PUBLISH
X-WR-CALNAME:Cowichan South Arts Guild
X-ORIGINAL-URL:https://cowichansouthartsguild.com
X-WR-CALDESC:Events for Cowichan South Arts Guild
REFRESH-INTERVAL;VALUE=DURATION:PT1H
X-Robots-Tag:noindex
X-PUBLISHED-TTL:PT1H
BEGIN:VTIMEZONE
TZID:America/Vancouver
BEGIN:DAYLIGHT
TZOFFSETFROM:-0800
TZOFFSETTO:-0700
TZNAME:PDT
DTSTART:20250309T100000
END:DAYLIGHT
BEGIN:STANDARD
TZOFFSETFROM:-0700
TZOFFSETTO:-0800
TZNAME:PST
DTSTART:20251102T090000
END:STANDARD
BEGIN:DAYLIGHT
TZOFFSETFROM:-0800
TZOFFSETTO:-0700
TZNAME:PDT
DTSTART:20260308T100000
END:DAYLIGHT
BEGIN:STANDARD
TZOFFSETFROM:-0700
TZOFFSETTO:-0800
TZNAME:PST
DTSTART:20261101T090000
END:STANDARD
BEGIN:DAYLIGHT
TZOFFSETFROM:-0800
TZOFFSETTO:-0700
TZNAME:PDT
DTSTART:20270314T100000
END:DAYLIGHT
BEGIN:STANDARD
TZOFFSETFROM:-0700
TZOFFSETTO:-0800
TZNAME:PST
DTSTART:20271107T090000
END:STANDARD
END:VTIMEZONE
BEGIN:VEVENT
DTSTART;TZID=America/Vancouver:20260228T100000
DTEND;TZID=America/Vancouver:20260228T140000
DTSTAMP:20260423T122258
CREATED:20250517T002020Z
LAST-MODIFIED:20260128T210315Z
UID:4608-1772272800-1772287200@cowichansouthartsguild.com
SUMMARY:Fabric Painting with Pipi Tustian
DESCRIPTION:In this workshop you will learn the ins and outs of fabric preparation\, mixing paint and mediums to achieve washable one of a kind fabric panels that can be used as a runner or sewn onto a jacket. Pipi will walk you through her signature floral painting technique\, giving much room for experimentation and self expression. \nSome supplies provided\, participants are also welcome to bring/share materials! \nCreating\, painting\, and textiles have been apart of Pipi’s life since birth. Teaching her trade one way or another for over 30 years. \nThis workshop is now full. \n$18 for CSAG Members\n$28 for Non-Members\n$15 for an Annual Membership
URL:https://cowichansouthartsguild.com/event/fabric-painting-with-pipi-tustian/
LOCATION:Shawnigan Lake Community Centre\, - 2804 Shawnigan Lake Road
CATEGORIES:Sampler Workshops
ATTACH;FMTTYPE=image/jpeg:https://cowichansouthartsguild.com/wp-content/uploads/2026/01/CSAG_sampler_workshop_poster_Febuary-scaled.jpg
ORGANIZER;CN="Cowichan South Arts Guild":MAILTO:hello@cowichansouthartsguild.com
END:VEVENT
END:VCALENDAR