BEGIN:VCALENDAR
VERSION:2.0
PRODID:-//Cowichan South Arts Guild - ECPv6.15.20//NONSGML v1.0//EN
CALSCALE:GREGORIAN
METHOD:PUBLISH
X-WR-CALNAME:Cowichan South Arts Guild
X-ORIGINAL-URL:https://cowichansouthartsguild.com
X-WR-CALDESC:Events for Cowichan South Arts Guild
REFRESH-INTERVAL;VALUE=DURATION:PT1H
X-Robots-Tag:noindex
X-PUBLISHED-TTL:PT1H
BEGIN:VTIMEZONE
TZID:America/Vancouver
BEGIN:DAYLIGHT
TZOFFSETFROM:-0800
TZOFFSETTO:-0700
TZNAME:PDT
DTSTART:20230312T100000
END:DAYLIGHT
BEGIN:STANDARD
TZOFFSETFROM:-0700
TZOFFSETTO:-0800
TZNAME:PST
DTSTART:20231105T090000
END:STANDARD
BEGIN:DAYLIGHT
TZOFFSETFROM:-0800
TZOFFSETTO:-0700
TZNAME:PDT
DTSTART:20240310T100000
END:DAYLIGHT
BEGIN:STANDARD
TZOFFSETFROM:-0700
TZOFFSETTO:-0800
TZNAME:PST
DTSTART:20241103T090000
END:STANDARD
BEGIN:DAYLIGHT
TZOFFSETFROM:-0800
TZOFFSETTO:-0700
TZNAME:PDT
DTSTART:20250309T100000
END:DAYLIGHT
BEGIN:STANDARD
TZOFFSETFROM:-0700
TZOFFSETTO:-0800
TZNAME:PST
DTSTART:20251102T090000
END:STANDARD
END:VTIMEZONE
BEGIN:VEVENT
DTSTART;TZID=America/Vancouver:20241123T100000
DTEND;TZID=America/Vancouver:20241123T140000
DTSTAMP:20260424T125933
CREATED:20241101T205605Z
LAST-MODIFIED:20241101T205741Z
UID:3681-1732356000-1732370400@cowichansouthartsguild.com
SUMMARY:Ink and Watercolour Cards with Penny Boden
DESCRIPTION:Using ink and watercolour\, Penny will lead you through her simple heart led methods\, in greeting card size! No experience or talent required. Penny is an internationally-known artist with a lifetime of experience drawing. Predominantly self-taught\, Penny’s style has evolved from total realism to her soulfil character drawings of today. \nCheck out her links below: \nYebsite: Crazy Cat Artist\nEtsy: Penny’s Original Art \nTo reserve a spot\, contact hello@cowichansouthartsguild.com
URL:https://cowichansouthartsguild.com/event/ink-and-watercolour-cards-with-penny-boden/
LOCATION:Shawnigan Lake Community Centre\, - 2804 Shawnigan Lake Road
CATEGORIES:Sampler Workshops
ATTACH;FMTTYPE=image/jpeg:https://cowichansouthartsguild.com/wp-content/uploads/2024/11/adjusted-_Ink-Watercolour.jpg
END:VEVENT
END:VCALENDAR