BEGIN:VCALENDAR
VERSION:2.0
PRODID:-//Cowichan South Arts Guild - ECPv6.15.20//NONSGML v1.0//EN
CALSCALE:GREGORIAN
METHOD:PUBLISH
X-WR-CALNAME:Cowichan South Arts Guild
X-ORIGINAL-URL:https://cowichansouthartsguild.com
X-WR-CALDESC:Events for Cowichan South Arts Guild
REFRESH-INTERVAL;VALUE=DURATION:PT1H
X-Robots-Tag:noindex
X-PUBLISHED-TTL:PT1H
BEGIN:VTIMEZONE
TZID:America/Vancouver
BEGIN:DAYLIGHT
TZOFFSETFROM:-0800
TZOFFSETTO:-0700
TZNAME:PDT
DTSTART:20240310T100000
END:DAYLIGHT
BEGIN:STANDARD
TZOFFSETFROM:-0700
TZOFFSETTO:-0800
TZNAME:PST
DTSTART:20241103T090000
END:STANDARD
BEGIN:DAYLIGHT
TZOFFSETFROM:-0800
TZOFFSETTO:-0700
TZNAME:PDT
DTSTART:20250309T100000
END:DAYLIGHT
BEGIN:STANDARD
TZOFFSETFROM:-0700
TZOFFSETTO:-0800
TZNAME:PST
DTSTART:20251102T090000
END:STANDARD
BEGIN:DAYLIGHT
TZOFFSETFROM:-0800
TZOFFSETTO:-0700
TZNAME:PDT
DTSTART:20260308T100000
END:DAYLIGHT
BEGIN:STANDARD
TZOFFSETFROM:-0700
TZOFFSETTO:-0800
TZNAME:PST
DTSTART:20261101T090000
END:STANDARD
END:VTIMEZONE
BEGIN:VEVENT
DTSTART;TZID=America/Vancouver:20250222T100000
DTEND;TZID=America/Vancouver:20250222T130000
DTSTAMP:20260424T082138
CREATED:20250131T080249Z
LAST-MODIFIED:20250225T025422Z
UID:4014-1740218400-1740229200@cowichansouthartsguild.com
SUMMARY:Slow Stitch Intro with Megan Spedding
DESCRIPTION:Part embroidery\, part abstract collage\, slow stitching combines colours\, layers and textures in a meditative process using reclaimed fabrics & adornments to create a unique textile collage art piece. Instructional workshop covers several basic starting stitches\, all levels welcome. \nSupplies provided\, participants also welcome to bring/share materials! \nMegan Spedding is a Cowichan Valley-based textile artist whose hand stitch work is inspired by nature\, ritual\, repurposed materials & the raw edges of imperfection. Since 2020\, Megan has been exploring this meditative practice\, an intuitive form of needlework combining freeform fabric collage with conventional embroidery\, and continues to evolve and deeper her practice. \nWebsite: unfurlingcreative.com\nInstagram: @threadspells \n$18 for CSAG Members\n$28 for Non-Members
URL:https://cowichansouthartsguild.com/event/slow-stitch-intro-with-megan-spedding/
LOCATION:Shawnigan Lake Community Centre\, - 2804 Shawnigan Lake Road
CATEGORIES:Sampler Workshops
ATTACH;FMTTYPE=image/jpeg:https://cowichansouthartsguild.com/wp-content/uploads/2025/01/CSAG_FebWorkshop.jpg
ORGANIZER;CN="Cowichan South Arts Guild":MAILTO:hello@cowichansouthartsguild.com
END:VEVENT
END:VCALENDAR