BEGIN:VCALENDAR
VERSION:2.0
PRODID:-//Cowichan South Arts Guild - ECPv6.15.20//NONSGML v1.0//EN
CALSCALE:GREGORIAN
METHOD:PUBLISH
X-ORIGINAL-URL:https://cowichansouthartsguild.com
X-WR-CALDESC:Events for Cowichan South Arts Guild
REFRESH-INTERVAL;VALUE=DURATION:PT1H
X-Robots-Tag:noindex
X-PUBLISHED-TTL:PT1H
BEGIN:VTIMEZONE
TZID:America/Vancouver
BEGIN:DAYLIGHT
TZOFFSETFROM:-0800
TZOFFSETTO:-0700
TZNAME:PDT
DTSTART:20240310T100000
END:DAYLIGHT
BEGIN:STANDARD
TZOFFSETFROM:-0700
TZOFFSETTO:-0800
TZNAME:PST
DTSTART:20241103T090000
END:STANDARD
BEGIN:DAYLIGHT
TZOFFSETFROM:-0800
TZOFFSETTO:-0700
TZNAME:PDT
DTSTART:20250309T100000
END:DAYLIGHT
BEGIN:STANDARD
TZOFFSETFROM:-0700
TZOFFSETTO:-0800
TZNAME:PST
DTSTART:20251102T090000
END:STANDARD
BEGIN:DAYLIGHT
TZOFFSETFROM:-0800
TZOFFSETTO:-0700
TZNAME:PDT
DTSTART:20260308T100000
END:DAYLIGHT
BEGIN:STANDARD
TZOFFSETFROM:-0700
TZOFFSETTO:-0800
TZNAME:PST
DTSTART:20261101T090000
END:STANDARD
END:VTIMEZONE
BEGIN:VEVENT
DTSTART;TZID=America/Vancouver:20251025T100000
DTEND;TZID=America/Vancouver:20251025T140000
DTSTAMP:20260423T194538
CREATED:20250517T001735Z
LAST-MODIFIED:20250928T150616Z
UID:4601-1761386400-1761400800@cowichansouthartsguild.com
SUMMARY:Paper Jewelry with Julie Collins
DESCRIPTION:The art of creating beautiful and unique jewelry pieces using paper. Exploring a variety of different types of paper\, including recycled paper products\, you will learn the technique of rolling the paper into different shapes and sizes creating a variety of unique beads. The beads are then laid out and strung together to design one-of-a kind wearable ART. \nAll supplies provided! \nJulie Collins is a Cowichan Valley-based artist whose passion for making jewelry began in 2013. By 2020 her interest shifted from using semi-precious stones to paper. Choosing the paper and style\, making the beads\, and designing these unique pieces became her passion. \n$18 for CSAG Members\n$28 for Non-Members\n$15 for an Annual Membership \nTo reserve a spot email: hello@cowichansouthartsguild.com
URL:https://cowichansouthartsguild.com/event/paper-jewelry-with-julie-collins/
LOCATION:Shawnigan Lake Community Centre\, - 2804 Shawnigan Lake Road
CATEGORIES:Sampler Workshops
ATTACH;FMTTYPE=image/jpeg:https://cowichansouthartsguild.com/wp-content/uploads/2025/09/CSAG_SamplerPoster_October2025.jpg
ORGANIZER;CN="Cowichan South Arts Guild":MAILTO:hello@cowichansouthartsguild.com
END:VEVENT
END:VCALENDAR