BEGIN:VCALENDAR
VERSION:2.0
PRODID:-//Cowichan South Arts Guild - ECPv6.15.20//NONSGML v1.0//EN
CALSCALE:GREGORIAN
METHOD:PUBLISH
X-WR-CALNAME:Cowichan South Arts Guild
X-ORIGINAL-URL:https://cowichansouthartsguild.com
X-WR-CALDESC:Events for Cowichan South Arts Guild
REFRESH-INTERVAL;VALUE=DURATION:PT1H
X-Robots-Tag:noindex
X-PUBLISHED-TTL:PT1H
BEGIN:VTIMEZONE
TZID:America/Vancouver
BEGIN:DAYLIGHT
TZOFFSETFROM:-0800
TZOFFSETTO:-0700
TZNAME:PDT
DTSTART:20250309T100000
END:DAYLIGHT
BEGIN:STANDARD
TZOFFSETFROM:-0700
TZOFFSETTO:-0800
TZNAME:PST
DTSTART:20251102T090000
END:STANDARD
BEGIN:DAYLIGHT
TZOFFSETFROM:-0800
TZOFFSETTO:-0700
TZNAME:PDT
DTSTART:20260308T100000
END:DAYLIGHT
BEGIN:STANDARD
TZOFFSETFROM:-0700
TZOFFSETTO:-0800
TZNAME:PST
DTSTART:20261101T090000
END:STANDARD
BEGIN:DAYLIGHT
TZOFFSETFROM:-0800
TZOFFSETTO:-0700
TZNAME:PDT
DTSTART:20270314T100000
END:DAYLIGHT
BEGIN:STANDARD
TZOFFSETFROM:-0700
TZOFFSETTO:-0800
TZNAME:PST
DTSTART:20271107T090000
END:STANDARD
END:VTIMEZONE
BEGIN:VEVENT
DTSTART;TZID=America/Vancouver:20260418T130000
DTEND;TZID=America/Vancouver:20260418T160000
DTSTAMP:20260423T105839
CREATED:20260321T183725Z
LAST-MODIFIED:20260407T160712Z
UID:5596-1776517200-1776528000@cowichansouthartsguild.com
SUMMARY:Songwriting Share Workshop with Claire Coupland
DESCRIPTION:Calling all Songwriters! \nAre you a songwriter who yearns to complete songs but have trouble making the time? Or do you dream of learning to write songs and need a boost to begin? We at CSAG have a brand new Songwriter Workshop facilitated by Victoria based folk singer songwriter Claire Coupland on Sat\, April 18th\, 2026 from 1-4pm at Shawnigan Lake Community Centre. \nSongs\, Melodies\, and Words\, Wonderful Words! \nWorkshop participants each bring an original song/s they are working on to play (or voice memo) for the group\, along with lyrics/chords. Together\, the group discusses lyrics\, form\, melody\, chords and message in a unique and supportive environment! Each person will have a chance to share their song\, and get suggestions & feedback from their peers and facilitator. Donation suggested $10-$20 to help cover room rental. \nReserve Your Spot\nThe workshop fee is non-refundable 7 days prior to workshop. Prior to 7 days notice\, $5 held back for administrative fee.
URL:https://cowichansouthartsguild.com/event/songwriting-share-workshop-with-claire-coupland/
LOCATION:Shawnigan Lake Community Centre\, - 2804 Shawnigan Lake Road
CATEGORIES:Sampler Workshops
ATTACH;FMTTYPE=image/jpeg:https://cowichansouthartsguild.com/wp-content/uploads/2026/03/CSAG_SongWritingWorkshop_V2.jpg
END:VEVENT
END:VCALENDAR