BEGIN:VCALENDAR
VERSION:2.0
PRODID:-//Cowichan South Arts Guild - ECPv6.15.20//NONSGML v1.0//EN
CALSCALE:GREGORIAN
METHOD:PUBLISH
X-WR-CALNAME:Cowichan South Arts Guild
X-ORIGINAL-URL:https://cowichansouthartsguild.com
X-WR-CALDESC:Events for Cowichan South Arts Guild
REFRESH-INTERVAL;VALUE=DURATION:PT1H
X-Robots-Tag:noindex
X-PUBLISHED-TTL:PT1H
BEGIN:VTIMEZONE
TZID:America/Vancouver
BEGIN:DAYLIGHT
TZOFFSETFROM:-0800
TZOFFSETTO:-0700
TZNAME:PDT
DTSTART:20250309T100000
END:DAYLIGHT
BEGIN:STANDARD
TZOFFSETFROM:-0700
TZOFFSETTO:-0800
TZNAME:PST
DTSTART:20251102T090000
END:STANDARD
BEGIN:DAYLIGHT
TZOFFSETFROM:-0800
TZOFFSETTO:-0700
TZNAME:PDT
DTSTART:20260308T100000
END:DAYLIGHT
BEGIN:STANDARD
TZOFFSETFROM:-0700
TZOFFSETTO:-0800
TZNAME:PST
DTSTART:20261101T090000
END:STANDARD
BEGIN:DAYLIGHT
TZOFFSETFROM:-0800
TZOFFSETTO:-0700
TZNAME:PDT
DTSTART:20270314T100000
END:DAYLIGHT
BEGIN:STANDARD
TZOFFSETFROM:-0700
TZOFFSETTO:-0800
TZNAME:PST
DTSTART:20271107T090000
END:STANDARD
END:VTIMEZONE
BEGIN:VEVENT
DTSTART;TZID=America/Vancouver:20260425T100000
DTEND;TZID=America/Vancouver:20260425T140000
DTSTAMP:20260423T081347
CREATED:20260124T224712Z
LAST-MODIFIED:20260326T172945Z
UID:5459-1777111200-1777125600@cowichansouthartsguild.com
SUMMARY:Spring Eco Prints on Paper & Slip Knot Binding with Nora Ready
DESCRIPTION:Participants will forage spring foliage to use in processing prints on paper using a steam and/or immersion method of botanical print making. We will assemble simple\, slip knot bound booklets with prepared papers. \nSome supplies provided\, participants are also welcome to bring/share materials! \nNora is an experienced art facilitator and active fibre artist with membership in the Vancouver Island Surface Design Association and the Canadian Fibre Arts Network. \nReserve Your Spot Now\nThe workshop fee is non-refundable 7 days prior to workshop. Prior to 7 days notice\, $5 held back for administrative fee.
URL:https://cowichansouthartsguild.com/event/spring-eco-prints-on-paper-slip-knot-binding-with-nora-ready/
LOCATION:Shawnigan Lake Community Centre\, - 2804 Shawnigan Lake Road
CATEGORIES:Sampler Workshops
ATTACH;FMTTYPE=image/jpeg:https://cowichansouthartsguild.com/wp-content/uploads/2026/01/CSAG_sampler_workshop_April2026.jpg
END:VEVENT
BEGIN:VEVENT
DTSTART;TZID=America/Vancouver:20260523T100000
DTEND;TZID=America/Vancouver:20260523T140000
DTSTAMP:20260423T081347
CREATED:20260417T231531Z
LAST-MODIFIED:20260417T231531Z
UID:5746-1779530400-1779544800@cowichansouthartsguild.com
SUMMARY:Tapestry Tapas with Alison Irwin
DESCRIPTION:If you’ve ever pictured yourself weaving but didn’t think you’d have room for a loom\, here’s how to do it on a small scale. Use a picture frame as your loom! \nAlison Irwin will share tips on weaving a narrow tapestry on a frame\, it’s a project small enough to give you a taste of what’s involved plus you’ll learn a new vocabulary. \nReserve Your Spot Now\nSome supplies provided\, a material list is sent out when you register.
URL:https://cowichansouthartsguild.com/event/tapestry-tapas-with-alison-irwin/
LOCATION:Shawnigan Lake Community Centre\, - 2804 Shawnigan Lake Road
CATEGORIES:Sampler Workshops
ATTACH;FMTTYPE=image/png:https://cowichansouthartsguild.com/wp-content/uploads/2026/04/may-23-sampler-scaled.png
END:VEVENT
END:VCALENDAR