BEGIN:VCALENDAR
VERSION:2.0
PRODID:-//Cowichan South Arts Guild - ECPv6.15.20//NONSGML v1.0//EN
CALSCALE:GREGORIAN
METHOD:PUBLISH
X-WR-CALNAME:Cowichan South Arts Guild
X-ORIGINAL-URL:https://cowichansouthartsguild.com
X-WR-CALDESC:Events for Cowichan South Arts Guild
REFRESH-INTERVAL;VALUE=DURATION:PT1H
X-Robots-Tag:noindex
X-PUBLISHED-TTL:PT1H
BEGIN:VTIMEZONE
TZID:America/Vancouver
BEGIN:DAYLIGHT
TZOFFSETFROM:-0800
TZOFFSETTO:-0700
TZNAME:PDT
DTSTART:20250309T100000
END:DAYLIGHT
BEGIN:STANDARD
TZOFFSETFROM:-0700
TZOFFSETTO:-0800
TZNAME:PST
DTSTART:20251102T090000
END:STANDARD
BEGIN:DAYLIGHT
TZOFFSETFROM:-0800
TZOFFSETTO:-0700
TZNAME:PDT
DTSTART:20260308T100000
END:DAYLIGHT
BEGIN:STANDARD
TZOFFSETFROM:-0700
TZOFFSETTO:-0800
TZNAME:PST
DTSTART:20261101T090000
END:STANDARD
BEGIN:DAYLIGHT
TZOFFSETFROM:-0800
TZOFFSETTO:-0700
TZNAME:PDT
DTSTART:20270314T100000
END:DAYLIGHT
BEGIN:STANDARD
TZOFFSETFROM:-0700
TZOFFSETTO:-0800
TZNAME:PST
DTSTART:20271107T090000
END:STANDARD
END:VTIMEZONE
BEGIN:VEVENT
DTSTART;TZID=America/Vancouver:20260218T153000
DTEND;TZID=America/Vancouver:20260218T173000
DTSTAMP:20260424T031355
CREATED:20260103T180134Z
LAST-MODIFIED:20260103T180134Z
UID:5386-1771428600-1771435800@cowichansouthartsguild.com
SUMMARY:Explore & Create Workshop - Children & Youth (Ages 8-12)
DESCRIPTION:Playful\, creative opportunities to explore a variety of artistic expressions. Explore papermaking\, weaving\, felting\, woodworking\, multi media\, sculpture\, animation\, music & much more… \nWednesdays – January 14 to February 18\n3:30pm – 5:30pm\nShawnigan Lake Community Centre (SLCC)\n6 classes for $90 | Sign up with code: 109152 \nTo register please visit:\nwww.reccowichan.ca\nor phone (250) 743-1433
URL:https://cowichansouthartsguild.com/event/explore-create-workshop-children-youth-ages-8-12-6/
LOCATION:Shawnigan Lake Community Centre\, - 2804 Shawnigan Lake Road
CATEGORIES:Youth Workshop
ATTACH;FMTTYPE=image/jpeg:https://cowichansouthartsguild.com/wp-content/uploads/2026/01/EandC_8-12_January.jpg
END:VEVENT
END:VCALENDAR