BEGIN:VCALENDAR
VERSION:2.0
PRODID:-//Cowichan South Arts Guild - ECPv6.15.20//NONSGML v1.0//EN
CALSCALE:GREGORIAN
METHOD:PUBLISH
X-ORIGINAL-URL:https://cowichansouthartsguild.com
X-WR-CALDESC:Events for Cowichan South Arts Guild
REFRESH-INTERVAL;VALUE=DURATION:PT1H
X-Robots-Tag:noindex
X-PUBLISHED-TTL:PT1H
BEGIN:VTIMEZONE
TZID:America/Vancouver
BEGIN:DAYLIGHT
TZOFFSETFROM:-0800
TZOFFSETTO:-0700
TZNAME:PDT
DTSTART:20250309T100000
END:DAYLIGHT
BEGIN:STANDARD
TZOFFSETFROM:-0700
TZOFFSETTO:-0800
TZNAME:PST
DTSTART:20251102T090000
END:STANDARD
BEGIN:DAYLIGHT
TZOFFSETFROM:-0800
TZOFFSETTO:-0700
TZNAME:PDT
DTSTART:20260308T100000
END:DAYLIGHT
BEGIN:STANDARD
TZOFFSETFROM:-0700
TZOFFSETTO:-0800
TZNAME:PST
DTSTART:20261101T090000
END:STANDARD
BEGIN:DAYLIGHT
TZOFFSETFROM:-0800
TZOFFSETTO:-0700
TZNAME:PDT
DTSTART:20270314T100000
END:DAYLIGHT
BEGIN:STANDARD
TZOFFSETFROM:-0700
TZOFFSETTO:-0800
TZNAME:PST
DTSTART:20271107T090000
END:STANDARD
END:VTIMEZONE
BEGIN:VEVENT
DTSTART;TZID=America/Vancouver:20260222T133000
DTEND;TZID=America/Vancouver:20260222T160000
DTSTAMP:20260423T213006
CREATED:20260104T145555Z
LAST-MODIFIED:20260105T165946Z
UID:5388-1771767000-1771776000@cowichansouthartsguild.com
SUMMARY:Explore & Create Workshop - Youth (Ages 13-16)
DESCRIPTION:An inspirational journey into learning new skills to craft something unique and self-expressive. Explore papermaking\, wet felting\, woodworking\, multi media\, sculpture & much more… \nSunday\, February 22\, 2026\n1:30 – 4:00pm\nShawnigan Lake Community Centre (SLCC)\n1 class for $20 | Sign up with code: 109153 \nSunday\, April 26\, 2026\n1:30pm – 4:00pm\nShawnigan Lake Community Centre (SLCC)\n1 class for $20 | Sign up with code: 109154 \nTo register please visit:\nwww.reccowichan.ca\nor Phone (250) 743-1433
URL:https://cowichansouthartsguild.com/event/explore-create-workshop-youth-ages-13-16/
LOCATION:Shawnigan Lake Community Centre\, - 2804 Shawnigan Lake Road
CATEGORIES:Youth Workshop
ATTACH;FMTTYPE=image/jpeg:https://cowichansouthartsguild.com/wp-content/uploads/2026/01/EandC_13-16_Febuary-April.jpg
END:VEVENT
END:VCALENDAR